BEGIN:VCALENDAR
VERSION:2.0
PRODID:-//eventon.com NONSGML v1.0//EN
CALSCALE:GREGORIAN
METHOD:PUBLISH
BEGIN:VEVENT
UID:69eba9c71f20a
DTSTAMP:20260424T173503Z
DTSTART:20251210T100000Z
DTEND:20251210T123000Z
LOCATION:Burton Chace Park 13650 Mindanao Way
SUMMARY:CANCELLED: Small Craft Harbor Commission - December 10\,  2025
DESCRIPTION:The December 10\,  2025\,  meeting of the Small Craft Harbor Co
 mmission has been cancelled.                              
                                              
      Click here for the cancellation notice. The[..]\nhttps://beaches.la
 county.gov/events/cancelled-small-craft-harbor-commission-december-10-2025/
URL:https://beaches.lacounty.gov/events/cancelled-small-craft-harbor-commission-december-10-2025/
END:VEVENT
END:VCALENDAR