BEGIN:VCALENDAR
VERSION:2.0
PRODID:-//eventon.com NONSGML v1.0//EN
CALSCALE:GREGORIAN
METHOD:PUBLISH
BEGIN:VEVENT
UID:69e5f5b80b2bd
DTSTAMP:20260420T094528Z
DTSTART:20241231T190000Z
DTEND:20250101T000000Z
LOCATION:Burton Chace Park 13650 Mindanao Way
SUMMARY:Marina del Rey NYE Fireworks & Glow Party
DESCRIPTION:2024 MDR NYE Event Flyer\nhttps://beaches.lacounty.gov/events/m
 arina-del-rey-nye-fireworks-glow-party-2/
URL:https://beaches.lacounty.gov/events/marina-del-rey-nye-fireworks-glow-party-2/
END:VEVENT
END:VCALENDAR